BEGIN:VCALENDAR
VERSION:2.0
PRODID:-//Over the Top Cake Supplies - ECPv6.15.20//NONSGML v1.0//EN
CALSCALE:GREGORIAN
METHOD:PUBLISH
X-WR-CALNAME:Over the Top Cake Supplies
X-ORIGINAL-URL:https://overthetopcakesupplies.com
X-WR-CALDESC:Events for Over the Top Cake Supplies
REFRESH-INTERVAL;VALUE=DURATION:PT1H
X-Robots-Tag:noindex
X-PUBLISHED-TTL:PT1H
BEGIN:VTIMEZONE
TZID:America/Chicago
BEGIN:DAYLIGHT
TZOFFSETFROM:-0600
TZOFFSETTO:-0500
TZNAME:CDT
DTSTART:20240310T080000
END:DAYLIGHT
BEGIN:STANDARD
TZOFFSETFROM:-0500
TZOFFSETTO:-0600
TZNAME:CST
DTSTART:20241103T070000
END:STANDARD
BEGIN:DAYLIGHT
TZOFFSETFROM:-0600
TZOFFSETTO:-0500
TZNAME:CDT
DTSTART:20250309T080000
END:DAYLIGHT
BEGIN:STANDARD
TZOFFSETFROM:-0500
TZOFFSETTO:-0600
TZNAME:CST
DTSTART:20251102T070000
END:STANDARD
BEGIN:DAYLIGHT
TZOFFSETFROM:-0600
TZOFFSETTO:-0500
TZNAME:CDT
DTSTART:20260308T080000
END:DAYLIGHT
BEGIN:STANDARD
TZOFFSETFROM:-0500
TZOFFSETTO:-0600
TZNAME:CST
DTSTART:20261101T070000
END:STANDARD
END:VTIMEZONE
BEGIN:VEVENT
DTSTART;TZID=America/Chicago:20250425T180000
DTEND;TZID=America/Chicago:20250425T200000
DTSTAMP:20260423T095043
CREATED:20250214T034753Z
LAST-MODIFIED:20250612T023719Z
UID:10000007-1745604000-1745611200@overthetopcakesupplies.com
SUMMARY:Fiesta SA Royal Icing Cookies
DESCRIPTION:Get ready to celebrate Fiesta San Antonio with a fun and colorful royal icing cookie decorating class! Learn how to create vibrant\, fiesta-inspired cookies\, using some airbrush techniques.
URL:https://overthetopcakesupplies.com/class/fiesta-sa-royal-icing-cookies/
LOCATION:San Antonio – Central\, 1010 NW Loop 410\, Ste 102\, San Antonio\, TX\, 78213\, United States
CATEGORIES:Classes,Decorating Basics
ATTACH;FMTTYPE=image/jpeg:https://overthetopcakesupplies.com/wp-content/uploads/2025/02/image-47-1.jpg
GEO:29.5195977;-98.5080286
X-APPLE-STRUCTURED-LOCATION;VALUE=URI;X-ADDRESS=San Antonio – Central 1010 NW Loop 410 Ste 102 San Antonio TX 78213 United States;X-APPLE-RADIUS=500;X-TITLE=1010 NW Loop 410\, Ste 102:geo:-98.5080286,29.5195977
END:VEVENT
BEGIN:VEVENT
DTSTART;TZID=America/Chicago:20250426T110000
DTEND;TZID=America/Chicago:20250426T150000
DTSTAMP:20260423T095043
CREATED:20250302T184310Z
LAST-MODIFIED:20250612T023722Z
UID:10000094-1745665200-1745679600@overthetopcakesupplies.com
SUMMARY:From-Scratch: Chantilly Cake
DESCRIPTION:Learn to bake a delicate and decadent Chantilly Cake from scratch in this hands-on baking class! You’ll master the art of creating soft\, fluffy cake layers\, whipping up a light and creamy Chantilly frosting\, and assembling a beautifully balanced dessert. This class covers essential baking techniques\, from achieving the perfect sponge texture to decorating with fresh berries for an elegant finish. Whether you’re a beginner or an experienced baker\, you’ll leave with the skills and confidence to recreate this luxurious cake at home.
URL:https://overthetopcakesupplies.com/class/from-scratch-chantilly-cake/
LOCATION:The Bake Lab\, 10731 I-35 Frontage Rd\, San Antonio\, TX\, 78233\, United States
CATEGORIES:Baking Basics
ATTACH;FMTTYPE=image/png:https://overthetopcakesupplies.com/wp-content/uploads/2025/03/mikey-class-phots-18.png
GEO:29.5382195;-98.3870238
X-APPLE-STRUCTURED-LOCATION;VALUE=URI;X-ADDRESS=The Bake Lab 10731 I-35 Frontage Rd San Antonio TX 78233 United States;X-APPLE-RADIUS=500;X-TITLE=10731 I-35 Frontage Rd:geo:-98.3870238,29.5382195
END:VEVENT
BEGIN:VEVENT
DTSTART;TZID=America/Chicago:20250426T120000
DTEND;TZID=America/Chicago:20250426T130000
DTSTAMP:20260423T095043
CREATED:20250412T200303Z
LAST-MODIFIED:20250612T023726Z
UID:10000153-1745668800-1745672400@overthetopcakesupplies.com
SUMMARY:Fiesta Medal PRE-ORDER* Central Location
DESCRIPTION:It’s Fiesta Time! \nOur 2025 Fiesta medal is here! We are offering you a chance to Pre-Order* yours! \nWe will be doing pick-ups at our all of our Locations! These will be $8 for this Preorder and will be for a limited amount! Don’t Miss out! \n*Pre Order is expected to be in-store 4/26/25. If this changes anyone who pre ordered will be notified via email with the new expected date. All Pre-Orders are first come first served basis.
URL:https://overthetopcakesupplies.com/class/fiesta-medal-pre-order-central-location/
LOCATION:San Antonio – Central\, 1010 NW Loop 410\, Ste 102\, San Antonio\, TX\, 78213\, United States
CATEGORIES:Special Events
ATTACH;FMTTYPE=image/png:https://overthetopcakesupplies.com/wp-content/uploads/2025/04/untitled-design-24.png
GEO:29.5195977;-98.5080286
X-APPLE-STRUCTURED-LOCATION;VALUE=URI;X-ADDRESS=San Antonio – Central 1010 NW Loop 410 Ste 102 San Antonio TX 78213 United States;X-APPLE-RADIUS=500;X-TITLE=1010 NW Loop 410\, Ste 102:geo:-98.5080286,29.5195977
END:VEVENT
BEGIN:VEVENT
DTSTART;TZID=America/Chicago:20250426T120000
DTEND;TZID=America/Chicago:20250426T130000
DTSTAMP:20260423T095043
CREATED:20250412T200450Z
LAST-MODIFIED:20250612T023735Z
UID:10000154-1745668800-1745672400@overthetopcakesupplies.com
SUMMARY:Fiesta Medal PRE-ORDER* Austin Location
DESCRIPTION:It’s Fiesta Time! \nOur 2025 Fiesta medal is here! We are offering you a chance to Pre-Order* yours! \nWe will be doing pick-ups at our all of our Locations! These will be $8 for this Preorder and will be for a limited amount! Don’t Miss out! \n*Pre Order is expected to be in-store 4/26/25. If this changes anyone who pre ordered will be notified via email with the new expected date. All Pre-Orders are first come first served basis.
URL:https://overthetopcakesupplies.com/class/fiesta-medal-pre-order-austin-location/
LOCATION:Austin\, 9070 Research Blvd.\, Ste 203\, Austin\, TX\, 78758\, United States
CATEGORIES:Special Events
ATTACH;FMTTYPE=image/png:https://overthetopcakesupplies.com/wp-content/uploads/2025/04/untitled-design-24.png
GEO:30.3725554;-97.7277721
X-APPLE-STRUCTURED-LOCATION;VALUE=URI;X-ADDRESS=Austin 9070 Research Blvd. Ste 203 Austin TX 78758 United States;X-APPLE-RADIUS=500;X-TITLE=9070 Research Blvd.\, Ste 203:geo:-97.7277721,30.3725554
END:VEVENT
BEGIN:VEVENT
DTSTART;TZID=America/Chicago:20250426T120000
DTEND;TZID=America/Chicago:20250426T130000
DTSTAMP:20260423T095043
CREATED:20250412T200943Z
LAST-MODIFIED:20250612T023737Z
UID:10000155-1745668800-1745672400@overthetopcakesupplies.com
SUMMARY:Fiesta Medal PRE-ORDER* Universal City Location
DESCRIPTION:It’s Fiesta Time! \nOur 2025 Fiesta medal is here! We are offering you a chance to Pre-Order* yours! \nWe will be doing pick-ups at our all of our Locations! These will be $8 for this Preorder and will be for a limited amount! Don’t Miss out! \n*Pre Order is expected to be in-store 4/26/25. If this changes anyone who pre ordered will be notified via email with the new expected date. All Pre-Orders are first come first served basis.
URL:https://overthetopcakesupplies.com/class/fiesta-medal-pre-order-universal-city-location/
LOCATION:TX
CATEGORIES:Special Events
ATTACH;FMTTYPE=image/png:https://overthetopcakesupplies.com/wp-content/uploads/2025/04/untitled-design-24.png
END:VEVENT
BEGIN:VEVENT
DTSTART;TZID=America/Chicago:20250426T120000
DTEND;TZID=America/Chicago:20250426T140000
DTSTAMP:20260423T095043
CREATED:20250214T040025Z
LAST-MODIFIED:20250612T023739Z
UID:10000008-1745668800-1745676000@overthetopcakesupplies.com
SUMMARY:Family Day - Easter Basket Cookies
DESCRIPTION:Celebrate Easter with a fun\, hands-on cookie decorating class for the whole family! Learn how to decorate adorable Easter basket-themed cookies using royal icing\, piping techniques\, and festive edible decorations! No experience needed—just bring your creativity and holiday spirit!
URL:https://overthetopcakesupplies.com/class/family-day-easter-basket-cookies/
LOCATION:San Antonio – Central\, 1010 NW Loop 410\, Ste 102\, San Antonio\, TX\, 78213\, United States
CATEGORIES:Classes,Family Day
ATTACH;FMTTYPE=image/jpeg:https://overthetopcakesupplies.com/wp-content/uploads/2025/02/easter-basket-cookies.jpg
GEO:29.5195977;-98.5080286
X-APPLE-STRUCTURED-LOCATION;VALUE=URI;X-ADDRESS=San Antonio – Central 1010 NW Loop 410 Ste 102 San Antonio TX 78213 United States;X-APPLE-RADIUS=500;X-TITLE=1010 NW Loop 410\, Ste 102:geo:-98.5080286,29.5195977
END:VEVENT
BEGIN:VEVENT
DTSTART;TZID=America/Chicago:20250426T140000
DTEND;TZID=America/Chicago:20250426T170000
DTSTAMP:20260423T095043
CREATED:20250305T182204Z
LAST-MODIFIED:20250612T023744Z
UID:10000108-1745676000-1745686800@overthetopcakesupplies.com
SUMMARY:Basic Cookie Decorating
DESCRIPTION:A basic cookie decorating class teaches fundamental techniques for creating beautifully decorated cookies. Participants learn how to use piping bags and apply royal icing in different ways. The class is perfect for beginners looking to enhance their decorating skills and create visually appealing cookies for any occasion. \n  \nInstructor: Daquan
URL:https://overthetopcakesupplies.com/class/basic-cookie-decorating/
LOCATION:Austin\, 9070 Research Blvd.\, Ste 203\, Austin\, TX\, 78758\, United States
CATEGORIES:Classes,Decorating Basics
GEO:30.3725554;-97.7277721
X-APPLE-STRUCTURED-LOCATION;VALUE=URI;X-ADDRESS=Austin 9070 Research Blvd. Ste 203 Austin TX 78758 United States;X-APPLE-RADIUS=500;X-TITLE=9070 Research Blvd.\, Ste 203:geo:-97.7277721,30.3725554
END:VEVENT
BEGIN:VEVENT
DTSTART;TZID=America/Chicago:20250426T150000
DTEND;TZID=America/Chicago:20250426T170000
DTSTAMP:20260423T095043
CREATED:20250214T040953Z
LAST-MODIFIED:20250922T210849Z
UID:10000006-1745679600-1745686800@overthetopcakesupplies.com
SUMMARY:Vintage Fiesta Cake
DESCRIPTION:Join our instructor Selesity and step into a world of bold colors\, intricate piping\, and vintage charm in our Vintage Fiesta Cake Decorating Class! Inspired by traditional and classic vintage piping techniques\, this class is perfect for those who love timeless cake artistry with a vibrant\, cultural twist! \n*This is a one tier cake class*
URL:https://overthetopcakesupplies.com/class/vintage-fiesta-cake/
LOCATION:San Antonio – Central\, 1010 NW Loop 410\, Ste 102\, San Antonio\, TX\, 78213\, United States
CATEGORIES:Classes,Decorating Basics
ATTACH;FMTTYPE=image/jpeg:https://overthetopcakesupplies.com/wp-content/uploads/2025/02/vintage-fiesta-cake.jpg
GEO:29.5195977;-98.5080286
X-APPLE-STRUCTURED-LOCATION;VALUE=URI;X-ADDRESS=San Antonio – Central 1010 NW Loop 410 Ste 102 San Antonio TX 78213 United States;X-APPLE-RADIUS=500;X-TITLE=1010 NW Loop 410\, Ste 102:geo:-98.5080286,29.5195977
END:VEVENT
BEGIN:VEVENT
DTSTART;TZID=America/Chicago:20250427T110000
DTEND;TZID=America/Chicago:20250427T140000
DTSTAMP:20260423T095043
CREATED:20250305T182933Z
LAST-MODIFIED:20250612T023758Z
UID:10000109-1745751600-1745762400@overthetopcakesupplies.com
SUMMARY:Soft Preztels
DESCRIPTION:A soft pretzel-making class teaches participants how to create delicious\, chewy pretzels from scratch. The class covers dough preparation\, shaping techniques\, boiling\, and baking to achieve the perfect golden-brown crust. Students may also explore different toppings like salt\, cinnamon sugar\, and cheese. Ideal for beginners and baking enthusiasts\, this hands-on experience provides step-by-step guidance for mastering homemade soft pretzels. \n  \nInstructor: Angela
URL:https://overthetopcakesupplies.com/class/soft-preztels/
LOCATION:Austin\, 9070 Research Blvd.\, Ste 203\, Austin\, TX\, 78758\, United States
CATEGORIES:Baking Basics,Classes
ATTACH;FMTTYPE=image/png:https://overthetopcakesupplies.com/wp-content/uploads/2025/03/picture1.png
GEO:30.3725554;-97.7277721
X-APPLE-STRUCTURED-LOCATION;VALUE=URI;X-ADDRESS=Austin 9070 Research Blvd. Ste 203 Austin TX 78758 United States;X-APPLE-RADIUS=500;X-TITLE=9070 Research Blvd.\, Ste 203:geo:-97.7277721,30.3725554
END:VEVENT
BEGIN:VEVENT
DTSTART;TZID=America/Chicago:20250429T180000
DTEND;TZID=America/Chicago:20250429T200000
DTSTAMP:20260423T095043
CREATED:20250214T041628Z
LAST-MODIFIED:20250612T023803Z
UID:10000004-1745949600-1745956800@overthetopcakesupplies.com
SUMMARY:Peewee's Big Adventure Cupcakes (Bilingual)
DESCRIPTION:Get ready for a fun-filled night inspired by the one and only Pee-wee Herman! Join Chef Mikey Miller for a cupcake decorating class where you’ll create playful\, Pee-wee’s Big Adventure-themed cupcakes\, during a movie screening of this cult classic!
URL:https://overthetopcakesupplies.com/class/peewees-big-adventure-cupcakes-bilingual/
LOCATION:San Antonio – Central\, 1010 NW Loop 410\, Ste 102\, San Antonio\, TX\, 78213\, United States
CATEGORIES:Classes,Decorating Basics
ATTACH;FMTTYPE=image/jpeg:https://overthetopcakesupplies.com/wp-content/uploads/2025/02/peewee.jpg
GEO:29.5195977;-98.5080286
X-APPLE-STRUCTURED-LOCATION;VALUE=URI;X-ADDRESS=San Antonio – Central 1010 NW Loop 410 Ste 102 San Antonio TX 78213 United States;X-APPLE-RADIUS=500;X-TITLE=1010 NW Loop 410\, Ste 102:geo:-98.5080286,29.5195977
END:VEVENT
BEGIN:VEVENT
DTSTART;TZID=America/Chicago:20250429T180000
DTEND;TZID=America/Chicago:20250429T210000
DTSTAMP:20260423T095043
CREATED:20250305T183340Z
LAST-MODIFIED:20250612T023807Z
UID:10000110-1745949600-1745960400@overthetopcakesupplies.com
SUMMARY:Fondant 101
DESCRIPTION:A basic fondant class covers handling\, coloring\, and rolling fondant to cover cakes smoothly. It also teaches simple decorations like shapes\, textures\, and figurines\, along with troubleshooting tips for a polished finish. \n  \nInstructor: Kelly
URL:https://overthetopcakesupplies.com/class/fondant-101/
LOCATION:Austin\, 9070 Research Blvd.\, Ste 203\, Austin\, TX\, 78758\, United States
CATEGORIES:101,Classes,Decorating Basics
GEO:30.3725554;-97.7277721
X-APPLE-STRUCTURED-LOCATION;VALUE=URI;X-ADDRESS=Austin 9070 Research Blvd. Ste 203 Austin TX 78758 United States;X-APPLE-RADIUS=500;X-TITLE=9070 Research Blvd.\, Ste 203:geo:-97.7277721,30.3725554
END:VEVENT
END:VCALENDAR