BEGIN:VCALENDAR
VERSION:2.0
PRODID:-//Over the Top Cake Supplies - ECPv6.15.20//NONSGML v1.0//EN
CALSCALE:GREGORIAN
METHOD:PUBLISH
X-WR-CALNAME:Over the Top Cake Supplies
X-ORIGINAL-URL:https://overthetopcakesupplies.com
X-WR-CALDESC:Events for Over the Top Cake Supplies
REFRESH-INTERVAL;VALUE=DURATION:PT1H
X-Robots-Tag:noindex
X-PUBLISHED-TTL:PT1H
BEGIN:VTIMEZONE
TZID:America/Chicago
BEGIN:DAYLIGHT
TZOFFSETFROM:-0600
TZOFFSETTO:-0500
TZNAME:CDT
DTSTART:20250309T080000
END:DAYLIGHT
BEGIN:STANDARD
TZOFFSETFROM:-0500
TZOFFSETTO:-0600
TZNAME:CST
DTSTART:20251102T070000
END:STANDARD
BEGIN:DAYLIGHT
TZOFFSETFROM:-0600
TZOFFSETTO:-0500
TZNAME:CDT
DTSTART:20260308T080000
END:DAYLIGHT
BEGIN:STANDARD
TZOFFSETFROM:-0500
TZOFFSETTO:-0600
TZNAME:CST
DTSTART:20261101T070000
END:STANDARD
BEGIN:DAYLIGHT
TZOFFSETFROM:-0600
TZOFFSETTO:-0500
TZNAME:CDT
DTSTART:20270314T080000
END:DAYLIGHT
BEGIN:STANDARD
TZOFFSETFROM:-0500
TZOFFSETTO:-0600
TZNAME:CST
DTSTART:20271107T070000
END:STANDARD
END:VTIMEZONE
BEGIN:VEVENT
DTSTART;TZID=America/Chicago:20260425T100000
DTEND;TZID=America/Chicago:20260425T140000
DTSTAMP:20260425T081235
CREATED:20260212T221346Z
LAST-MODIFIED:20260213T150943Z
UID:10000638-1777111200-1777125600@overthetopcakesupplies.com
SUMMARY:Braided Challah (Bilingual)
DESCRIPTION:Discover the beauty and tradition of making challah\, the rich\, braided bread that’s as meaningful as it is delicious. In this hands-on class\, you’ll learn how to mix\, knead\, shape\, and bake your own golden loaves from scratch. Perfect for all skill levels\, this workshop blends technique with tradition—whether you’re making challah for Shabbat\, holidays\, or just because. \nWhat You’ll Learn: \n\n\nThe basics of enriched dough and yeast fermentation \n\n\nHow to knead and proof for the perfect texture \n\n\nBraiding techniques \n\n\nEgg wash tips for a glossy\, golden crust \n\n\nCultural and symbolic significance of challah \n\n\nIncludes: \n\n\nAll ingredients and materials \n\n\nRecipe handout to take home \n\n\nYour own freshly baked challah \n\n\nCome braid\, bake\, and break bread together in this warm\, welcoming class!
URL:https://overthetopcakesupplies.com/class/braided-challah-3/
LOCATION:The Bake Lab\, 10731 I-35 Frontage Rd\, San Antonio\, TX\, 78233\, United States
CATEGORIES:Baking Basics,Classes
ATTACH;FMTTYPE=image/jpeg:https://overthetopcakesupplies.com/wp-content/uploads/2026/02/challah-1.jpg
GEO:29.5382195;-98.3870238
X-APPLE-STRUCTURED-LOCATION;VALUE=URI;X-ADDRESS=The Bake Lab 10731 I-35 Frontage Rd San Antonio TX 78233 United States;X-APPLE-RADIUS=500;X-TITLE=10731 I-35 Frontage Rd:geo:-98.3870238,29.5382195
END:VEVENT
BEGIN:VEVENT
DTSTART;TZID=America/Chicago:20260425T120000
DTEND;TZID=America/Chicago:20260425T140000
DTSTAMP:20260425T081235
CREATED:20260219T221153Z
LAST-MODIFIED:20260219T221209Z
UID:10000652-1777118400-1777125600@overthetopcakesupplies.com
SUMMARY:Family Day: Cactus Cutie Cake
DESCRIPTION:Join us for a prickly-sweet adventure at our Family Day: Cactus Cutie Cake Class. Bakers of all ages will pipe green spines\, add adorable fondant eyes and rosy cheeks\, and top their cactus with a blooming flower. With easy step-by-step guidance and lots of laughs\, everyone gets to create their very own smiling cactus masterpiece – almost too cute to eat (almost!).
URL:https://overthetopcakesupplies.com/class/family-day-cactus-cutie-cake/
LOCATION:San Antonio – Central\, 1010 NW Loop 410\, Ste 102\, San Antonio\, TX\, 78213\, United States
CATEGORIES:Family Day
ATTACH;FMTTYPE=image/png:https://overthetopcakesupplies.com/wp-content/uploads/2026/02/family-day-cactus-cutie-cake-graphic.png
GEO:29.5195977;-98.5080286
X-APPLE-STRUCTURED-LOCATION;VALUE=URI;X-ADDRESS=San Antonio – Central 1010 NW Loop 410 Ste 102 San Antonio TX 78213 United States;X-APPLE-RADIUS=500;X-TITLE=1010 NW Loop 410\, Ste 102:geo:-98.5080286,29.5195977
END:VEVENT
END:VCALENDAR